BEGIN:VCALENDAR
VERSION:2.0
PRODID:-//Owen Kicks - ECPv6.15.20//NONSGML v1.0//EN
CALSCALE:GREGORIAN
METHOD:PUBLISH
X-ORIGINAL-URL:https://www.owenkicks.com
X-WR-CALDESC:Events for Owen Kicks
REFRESH-INTERVAL;VALUE=DURATION:PT1H
X-Robots-Tag:noindex
X-PUBLISHED-TTL:PT1H
BEGIN:VTIMEZONE
TZID:America/Chicago
BEGIN:DAYLIGHT
TZOFFSETFROM:-0600
TZOFFSETTO:-0500
TZNAME:CDT
DTSTART:20240310T080000
END:DAYLIGHT
BEGIN:STANDARD
TZOFFSETFROM:-0500
TZOFFSETTO:-0600
TZNAME:CST
DTSTART:20241103T070000
END:STANDARD
BEGIN:DAYLIGHT
TZOFFSETFROM:-0600
TZOFFSETTO:-0500
TZNAME:CDT
DTSTART:20250309T080000
END:DAYLIGHT
BEGIN:STANDARD
TZOFFSETFROM:-0500
TZOFFSETTO:-0600
TZNAME:CST
DTSTART:20251102T070000
END:STANDARD
BEGIN:DAYLIGHT
TZOFFSETFROM:-0600
TZOFFSETTO:-0500
TZNAME:CDT
DTSTART:20260308T080000
END:DAYLIGHT
BEGIN:STANDARD
TZOFFSETFROM:-0500
TZOFFSETTO:-0600
TZNAME:CST
DTSTART:20261101T070000
END:STANDARD
END:VTIMEZONE
BEGIN:VEVENT
DTSTART;TZID=America/Chicago:20250405T160000
DTEND;TZID=America/Chicago:20250405T170000
DTSTAMP:20260420T201910
CREATED:20250404T045234Z
LAST-MODIFIED:20250404T045402Z
UID:226-1743868800-1743872400@www.owenkicks.com
SUMMARY:Real-Time Techno | Episode 20 | LIVE TECHNO JAM FL | STUDIO
DESCRIPTION:Discover Real-Time Techno with Owen Kicks\nEvery Saturday at 4 PM Central\, Owen Kicks brings an unparalleled live music experience to life on his Real Time Techno show available through his YouTube channel\, Owen Kicks Live. In the upcoming Episode 20\, viewers can expect a fully improvised performance blending the hypnotic beats of acid techno and the melodic grooves of progressive house. Using FL Studio in Performance Mode\, Owen crafts music live\, making every set a unique journey into sound. This isn’t just a performance—it’s a creative exploration where no two shows are the same. 🎶 \nBeyond the DJ Booth\nUnlike a traditional DJ who plays pre-recorded tracks\, Owen builds each element of his music from scratch during the show. From beats to synths\, every sound is crafted live using a combination of FL Studio and external hardware. His setup includes tools like the Novation Circuit Tracks\, the Akai Fire\, and the Novation FLkey\, all of which allow him to push the boundaries of live music production. This hands-on\, real-time approach offers a depth and spontaneity that sets him apart. \nImmersive Soundscapes and Nonstop Music\nFor 60 uninterrupted minutes\, Owen delivers a seamlessly mixed set\, ensuring an immersive and captivating experience for his audience. Whether you’re a fan of electronic music or someone looking to discover something new\, his performances offer a dynamic blend of innovation and creativity. The music isn’t just heard—it’s felt\, with each note and transition building an atmosphere that keeps listeners engaged. \nA Growing Community of Techno Lovers\nOwen’s livestream isn’t just about the music; it’s about building a connection with fans. Viewers can join the live chat to ask questions\, share their thoughts\, or simply vibe along with fellow techno enthusiasts. The interactivity adds a personal touch\, creating a space where creativity and community thrive together. \nBe Part of the Journey\nBy subscribing to Owen Kicks Live\, you’ll be joining a movement that celebrates genuine\, improvised electronic music. Each episode of Real Time Techno is a testament to Owen’s dedication and artistry\, showcasing his unique ability to fuse technology and music in real time. Don’t miss Episode 20 this Saturday—mark your calendar\, tune in\, and experience something truly special!
URL:https://www.owenkicks.com/event/real-time-techno-episode-20-live-techno-jam-fl-studio/
LOCATION:YouTube LiveStream\, Online
CATEGORIES:Live Set
ORGANIZER;CN="Owen Kicks":MAILTO:me@owenkicks.com
END:VEVENT
BEGIN:VEVENT
DTSTART;TZID=America/Chicago:20250315T160000
DTEND;TZID=America/Chicago:20250315T170000
DTSTAMP:20260420T201910
CREATED:20250309T213742Z
LAST-MODIFIED:20250309T232355Z
UID:194-1742054400-1742058000@www.owenkicks.com
SUMMARY:Real-Time Techno Episode 17
DESCRIPTION:🎶 Experience the Magic of Live Electronic Music with Owen Kicks 🎶\nCalling all techno and house music fans! This Saturday at 4 PM Central\, Owen Kicks returns with Episode 17 of his groundbreaking series\, Real-Time Techno. Broadcasting on the Owen Kicks Live YouTube channel\, the show promises a thrilling hour of improvised live beats that fuse acid techno with progressive house. Every note\, rhythm\, and melody is created live—right before your eyes. \nUnlike DJs\, who remix and layer pre-existing tracks\, Owen builds his music from the ground up\, using a mix of high-tech tools and sheer creativity. It’s electronic music reimagined\, offering an experience as unique as it is unforgettable. \n\n🎧 What Sets Owen Kicks Apart?\nOwen Kicks isn’t your typical DJ spinning tracks. He’s a live electronic music producer\, crafting each performance in real time. Using FL Studio in performance mode and an array of cutting-edge hardware\, Owen creates music that’s fresh\, dynamic\, and entirely his own. Every episode is a one-of-a-kind journey into sound. \n\n🔥 A Peek Behind the Setup\nMusic production enthusiasts\, you’re in for a treat! Here are some of the powerful tools behind Owen’s captivating live shows: \n\n🎛️ Novation Circuit Tracks synthesizer\n🔥 Akai Fire and Novation FLkey controllers\, purpose-built for FL Studio\n🎚️ Novation Launch Control XL for precision control\n🎹 Akai MPK Mini MK3\, a portable MIDI powerhouse\n\nThis gear allows Owen to seamlessly layer beats\, basslines\, and melodies\, transforming them into a 60-minute continuous mix of sonic brilliance. \n\n🕺 How is This Different from a DJ Set?\nWhile DJs blend existing songs to maintain a vibe\, Owen’s performances are entirely live and improvised. Every sound is built from scratch during the show\, ensuring an exclusive experience for his audience. Think of it as a live concert where the artist is also the composer\, producer\, and performer—all at once. \n\n📅 When and Where to Watch\nCatch Real-Time Techno: Episode 17 this Saturday at 4 PM Central on Owen Kicks Live. And don’t forget to tune in every week—new episodes premiere every Saturday at 4 PM Central. Make it a date to discover fresh sounds and cutting-edge music! \n\n🗨️ Join the Conversation\nBe part of the excitement by joining the live chat during the show! Whether you’re vibing to the beats or have questions about the gear\, this is your chance to connect with other fans and interact with Owen in real time. \n\n👍 Support Live Music\nShow your love for live electronic music by liking the livestream\, subscribing to Owen Kicks Live\, and hitting the notification bell so you never miss a performance. Your support helps keep the music alive and the creativity flowing.
URL:https://www.owenkicks.com/event/real-time-techno-episode-17/
LOCATION:YouTube LiveStream\, Online
CATEGORIES:Live Set
ORGANIZER;CN="Owen Kicks":MAILTO:me@owenkicks.com
END:VEVENT
BEGIN:VEVENT
DTSTART;TZID=America/Chicago:20250308T160000
DTEND;TZID=America/Chicago:20250308T170000
DTSTAMP:20260420T201910
CREATED:20250308T034856Z
LAST-MODIFIED:20250308T035105Z
UID:182-1741449600-1741453200@www.owenkicks.com
SUMMARY:Real Time Techno Episode 16
DESCRIPTION:Get ready for an extraordinary auditory experience with “Real Time Techno”\, a live set by Owen Kicks\, streaming soon on YouTube! This highly anticipated performance will highlight the versatility of the Akai Fire’s performance mode\, where I’ll be weaving together a unique blend of acid techno and progressive house. Inspired by the pulsating beats of main stage EDM\, this set promises an hour of continuous\, high-energy music that will leave you mesmerized. \nUnlike traditional DJ sets that rely on pre-recorded tracks\, my live performances are a testament to the art of real-time music creation. Using cutting-edge gear like the Novation Launch Control XL\, Akai MPK Mini MK3\, and Novation Circuit Tracks\, I craft every beat and melody on the spot. The spontaneity and improvisation bring a raw\, unfiltered energy to the music\, making each set a one-of-a-kind experience. \nThroughout the hour-long set\, you’ll be transported through a dynamic soundscape where acid techno’s hypnotic sequences meet the uplifting melodies of progressive house. This fusion creates an immersive journey that transcends the ordinary\, taking you on a thrilling ride of sonic exploration. The synergy of these genres\, combined with the live improvisation\, ensures a performance that is both captivating and exhilarating. \nDon’t miss out on this electrifying event! Tune in to “Real Time Techno” with Owen Kicks and be part of a live music creation experience like no other. Remember to like\, subscribe\, and join the chat to connect with fellow music enthusiasts and share your thoughts. Your participation fuels the passion and creativity behind these performances\, making each one a collective celebration of music. \nSo mark your calendars and get ready to dive into an hour of pure sonic bliss. Join me for “Real Time Techno” on YouTube\, and let’s embark on this exhilarating adventure together. Together\, we’ll explore the limitless possibilities of live electronic music and create memories that resonate long after the last beat fades. See you there!
URL:https://www.owenkicks.com/event/real-time-techno-episode-16/
LOCATION:YouTube LiveStream\, Online
CATEGORIES:Live Set,YouTube Livestream
ORGANIZER;CN="Owen Kicks":MAILTO:me@owenkicks.com
END:VEVENT
BEGIN:VEVENT
DTSTART;TZID=America/Chicago:20250301T160000
DTEND;TZID=America/Chicago:20250301T170000
DTSTAMP:20260420T201910
CREATED:20250228T071231Z
LAST-MODIFIED:20250228T204024Z
UID:178-1740844800-1740848400@www.owenkicks.com
SUMMARY:Real Time Techno Episode 15
DESCRIPTION:Hey techno enthusiasts! We’re thrilled to announce that Owen Kicks is back for his 15th live set on the Real Time Techno show. This show promises to be an unforgettable experience\, with Owen introducing brand new melodies and layered synthesizers created with FL Studio. He’s fine-tuned his Akai MPK3 midi controller\, and the improvements will shine throughout the set. Expect a high-energy\, ravey techno adventure combined with tribal rhythms to keep you moving. Best of all\, everything is performed live and improvised\, offering an exhilarating continuous mix for a full hour of entertainment! \nOwen is set to captivate his audience with innovative sounds in his latest Real Time Techno performance. He’s showcasing his meticulously refined Akai MPK3 midi controller links\, adding dynamic responses and richer textures to his music. Alongside the Akai MPK3\, you’ll hear his trusted Akai Fire\, Novation Circuit Tracks\, and Launch Control XL\, all contributing to a seamless\, powerhouse set. With a particular focus on acid techno and progressive house\, this live show promises a unique auditory journey for all listeners. \nIf you’re a fan of high-energy\, ravey techno\, Owen Kicks’ upcoming set is a must-see. His music will include enthralling tribal rhythms\, creating an immersive and electrifying atmosphere. Whether you’ve been following Owen for years or are new to his sound\, you’ll be captivated by the creative\, high-energy vibes he brings. Remember\, this set is entirely live and improvised\, offering a thrilling\, spontaneous experience with every performance. The focus on acid techno and progressive house ensures an eclectic and exciting musical blend. \nReady to join the Real Time Techno movement? Make sure to tune in and be part of the action. Owen Kicks’ live set guarantees an unforgettable performance that will leave you wanting more. With his unique blend of melodies\, synthesizers\, and advanced midi controller techniques\, Owen is set to redefine the techno scene. This is your chance to discover fresh sounds and fully immerse yourself in the world of techno. The improvised nature of his performance guarantees a distinct and exhilarating experience every time\, especially with the emphasis on acid techno and progressive house. \nInvite your friends and fellow techno fans to join the excitement! Don’t forget to like and subscribe to the Real Time Techno show to stay updated on Owen’s future performances and exclusive content. Owen Kicks’ 15th live set is an event you won’t want to miss. Mark your calendars and get ready for a night of unforgettable music and high energy. See you at the show!
URL:https://www.owenkicks.com/event/real-time-techno-episode-15/
LOCATION:YouTube LiveStream\, Online
CATEGORIES:Live Set,YouTube Livestream
ORGANIZER;CN="Owen Kicks":MAILTO:me@owenkicks.com
END:VEVENT
BEGIN:VEVENT
DTSTART;TZID=America/Chicago:20250222T160000
DTEND;TZID=America/Chicago:20250222T170000
DTSTAMP:20260420T201910
CREATED:20250221T044223Z
LAST-MODIFIED:20250221T044223Z
UID:168-1740240000-1740243600@www.owenkicks.com
SUMMARY:Real-Time Techno Episode 14
DESCRIPTION:Join me\, Owen Kicks\, every Saturday night for an hour of Real Time Techno! My show features an exciting blend of acid techno and progressive house music\, created live in the moment. Unlike a traditional DJ set\, I use a mix of software and hardware synthesizers to craft fresh beats on the spot. \nIn this set\, I use a variety of gear: the Akai MPK Mini MK3\, Akai Fire\, Novation Launch Control\, Novation Circuit Tracks\, and FLkey Mini. Each piece of equipment adds a unique touch to the music\, making every performance unpredictable and thrilling. \nMy live creation approach means every beat and melody you hear is made right then and there\, giving you a unique experience that you won’t find anywhere else. I’m not just mixing tracks – I’m building a musical journey from scratch\, live in front of you. \n🔥 Get ready for an hour of high-energy and creativity! 🔥 \nDon’t forget to like\, subscribe\, share\, and leave a comment to show your support. Your feedback keeps the music alive!
URL:https://www.owenkicks.com/event/real-time-techno-episode-14/
LOCATION:YouTube LiveStream\, Online
CATEGORIES:Live Set,YouTube Livestream
ORGANIZER;CN="Owen Kicks":MAILTO:me@owenkicks.com
END:VEVENT
BEGIN:VEVENT
DTSTART;TZID=America/Chicago:20250215T160000
DTEND;TZID=America/Chicago:20250215T170000
DTSTAMP:20260420T201910
CREATED:20250209T210844Z
LAST-MODIFIED:20250209T211132Z
UID:146-1739635200-1739638800@www.owenkicks.com
SUMMARY:Real-Time Techno | Episode 13 | FL Studio Performance | Novation Circuit Tracks
DESCRIPTION:Join me this Saturday at 4 PM Central for an invigorating session of live improvised techno! Dive into a sonic adventure where creativity and spontaneity collide. Unlike traditional DJs\, my performances are all about live production—crafted on the fly using FL Studio paired with a suite of outboard hardware. Get ready to experience unique\, never-before-heard sounds as I blend beats and melodies right before your eyes. \nI take techno to the next level by leveraging a Novation Circuit Tracks with its dual synth engines\, creating rich and intricate layers of sound. My arsenal of MIDI controllers\, including the Akai MPK Mini MK3\, Akai Fire\, Novation Launch Control XL\, and Novation FLkey Mini\, allows me to weave together complex rhythms and dynamic textures. Each performance is a one-of-a-kind journey\, where every beat and melody is built from scratch\, showcasing the true essence of live music production. \nDuring the livestream\, you’ll witness the seamless integration of cutting-edge technology and raw creativity. Watch as I manipulate synths and drum machines\, building spontaneous beats and crafting unique sounds that evolve in real-time. This isn’t just a performance; it’s an interactive experience where you can see the magic happen as it unfolds. \nWhat sets me apart is my commitment to genuine live production. No pre-recorded tracks\, no pre-planned sets—just pure improvisation. My setup allows me to respond to the energy of the moment\, creating a dynamic and immersive experience for everyone tuning in. Whether you’re a techno enthusiast or just curious about live music production\, there’s something here for you. \nI invite you to like\, subscribe\, and share this livestream with your friends. Simply hit the “Like” button below the video to show your support\, and click “Subscribe” and then the bell icon to stay updated on future streams. Don’t forget to share the link on social media to spread the word and bring more people into our live techno community! \nI’d love to hear your thoughts\, so please leave your feedback in the comments section and join the chat live during the stream. Let’s create an unforgettable musical journey together. See you on Saturday!
URL:https://www.owenkicks.com/event/real-time-techno-episode-13-fl-studio-performance-novation-circuit-tracks/
LOCATION:YouTube LiveStream\, Online
CATEGORIES:Live Set,YouTube Livestream
ORGANIZER;CN="Owen Kicks":MAILTO:me@owenkicks.com
END:VEVENT
BEGIN:VEVENT
DTSTART;TZID=America/Chicago:20250208T160000
DTEND;TZID=America/Chicago:20250208T170000
DTSTAMP:20260420T201910
CREATED:20250208T175058Z
LAST-MODIFIED:20250208T175058Z
UID:140-1739030400-1739034000@www.owenkicks.com
SUMMARY:Real Time Techno Episode 12 with Owen Kicks Live on Youtube!
DESCRIPTION:I’m thrilled to invite you to my upcoming Real-Time Techno show happening today at 4 PM Central Time. Get ready for an electrifying experience as I bring my unique blend of beats and rhythms to life! \nFor this show\, I’ll be using a versatile setup that includes the Novation Circuit Tracks\, Launch Control XL\, and FLKey Mini. Additionally\, I’ll be incorporating some top-notch Akai products\, including the Akai Fire and Akai MPK Mini MK3. This combination allows me to create dynamic and immersive soundscapes in real-time\, ensuring a unique and unforgettable performance. I’ll also be utilizing live looping techniques and real-time effects manipulation to enhance the overall experience. \nUnlike a traditional DJ\, who primarily plays and mixes pre-recorded tracks\, my performances are centered around live improvisation and real-time music creation. I focus on acid techno\, a subgenre known for its hypnotic basslines and distinctive squelchy sounds. This allows me to craft a unique and evolving musical journey for my audience\, with each set being one-of-a-kind. My approach ensures an organic connection with the music\, as I continuously adapt and respond to the energy of the crowd. \nDon’t miss out on this exciting event! Come join me\, enjoy the music\, and let’s make some great memories together. See you there!
URL:https://www.owenkicks.com/event/real-time-techno-episode-12-with-owen-kicks-live-on-youtube/
LOCATION:YouTube LiveStream\, Online
CATEGORIES:Live Set,YouTube Livestream
ORGANIZER;CN="Owen Kicks":MAILTO:me@owenkicks.com
END:VEVENT
END:VCALENDAR